BEGIN:VCALENDAR
VERSION:2.0
PRODID:icalendar-ruby
CALSCALE:GREGORIAN
METHOD:PUBLISH
BEGIN:VEVENT
DTSTAMP:20260420T035044Z
UID:14-103736@raptureministries.org
DTSTART:20260516T140000Z
DTEND:20260516T160000Z
CLASS:PUBLIC
CREATED:20260419T095005
DESCRIPTION:Fellowship with men who are leaders in their families and commu
 nities making a godly impact in the world!
LAST-MODIFIED:20260419T095005
LOCATION:Rapture Worship Center
SUMMARY:Men's Fellowship
URL;VALUE=URI:https://www.raptureministries.org/events/mens-fellowship--14/
 2026-05-16
ATTACH;FILENAME=Mens-Fellowship-Graphic-may-19.png;FMTTYPE=image/png:https:
 //dq5pwpg1q8ru0.cloudfront.net/2026/04/19/13/50/05/f1d006ae-6aef-49dc-8796
 -301f7d5138f5/Mens-Fellowship-Graphic-may-19.png
END:VEVENT
END:VCALENDAR
